BEGIN:VCALENDAR
VERSION:2.0
PRODID:-//Co-WOERK | Community zum Wissenstransfer OER: Netzwerk von Bildungsakteur:innen - ECPv6.15.20//NONSGML v1.0//EN
CALSCALE:GREGORIAN
METHOD:PUBLISH
X-WR-CALNAME:Co-WOERK | Community zum Wissenstransfer OER: Netzwerk von Bildungsakteur:innen
X-ORIGINAL-URL:https://www.co-woerk.de
X-WR-CALDESC:Veranstaltungen für Co-WOERK | Community zum Wissenstransfer OER: Netzwerk von Bildungsakteur:innen
REFRESH-INTERVAL;VALUE=DURATION:PT1H
X-Robots-Tag:noindex
X-PUBLISHED-TTL:PT1H
BEGIN:VTIMEZONE
TZID:Europe/Berlin
BEGIN:DAYLIGHT
TZOFFSETFROM:+0100
TZOFFSETTO:+0200
TZNAME:CEST
DTSTART:20250330T010000
END:DAYLIGHT
BEGIN:STANDARD
TZOFFSETFROM:+0200
TZOFFSETTO:+0100
TZNAME:CET
DTSTART:20251026T010000
END:STANDARD
BEGIN:DAYLIGHT
TZOFFSETFROM:+0100
TZOFFSETTO:+0200
TZNAME:CEST
DTSTART:20260329T010000
END:DAYLIGHT
BEGIN:STANDARD
TZOFFSETFROM:+0200
TZOFFSETTO:+0100
TZNAME:CET
DTSTART:20261025T010000
END:STANDARD
BEGIN:DAYLIGHT
TZOFFSETFROM:+0100
TZOFFSETTO:+0200
TZNAME:CEST
DTSTART:20270328T010000
END:DAYLIGHT
BEGIN:STANDARD
TZOFFSETFROM:+0200
TZOFFSETTO:+0100
TZNAME:CET
DTSTART:20271031T010000
END:STANDARD
END:VTIMEZONE
BEGIN:VEVENT
DTSTART;TZID=Europe/Berlin:20260423T130000
DTEND;TZID=Europe/Berlin:20260423T143000
DTSTAMP:20260423T124917
CREATED:20260312T120010Z
LAST-MODIFIED:20260407T104534Z
UID:1238-1776949200-1776954600@www.co-woerk.de
SUMMARY:OER-Materialien einschätzen und bewerten: Qualitätskriterien für die Praxis
DESCRIPTION:In dieser Veranstaltung werfen wir einen praxisnahen Blick auf Qualitätskriterien für offene Bildungsmaterialien. Im Fokus steht zunächst\, was eigentlich unter dem Begriff Qualität im Rahmen von Lehr-/Lernmaterialien verstanden werden kann und welchen Einfluss verschiedene Perspektiven haben (z.B. Produzent:in vs. Rezipient:in).  Tina Neff\, Lehrkraft in der Germanistischen Didaktik an der Universität Vechta und engagierte Vorreiterin im Themenfeld digitales Lernen\, gibt außerdem Einblicke in die Redaktionsprozesse der OER-Plattform WirLernenOnline (WLO) und berichtet von der Qualitätssicherung in dieser OER-Community. Darüber hinaus stellen wir konkrete Qualitätskriterien für OER in der Schulpraxis und Hochschullehre anhand unterschiedlicher Checklisten vor. \nAnmeldungen sind jederzeit über kontakt@co-woerk.de möglich.
URL:https://www.co-woerk.de/veranstaltungen/oer-materialien-einschaetzen-und-bewerten-qualitaetskriterien-fuer-die-praxis/
ATTACH;FMTTYPE=image/png:https://www.co-woerk.de/wp-content/uploads/2026/03/Qualitaet.png
END:VEVENT
END:VCALENDAR